BEGIN:VCALENDAR
VERSION:2.0
PRODID:-//Focus4Hope - ECPv6.15.20//NONSGML v1.0//EN
CALSCALE:GREGORIAN
METHOD:PUBLISH
X-WR-CALNAME:Focus4Hope
X-ORIGINAL-URL:https://focus4hope.co.uk
X-WR-CALDESC:Events for Focus4Hope
REFRESH-INTERVAL;VALUE=DURATION:PT1H
X-Robots-Tag:noindex
X-PUBLISHED-TTL:PT1H
BEGIN:VTIMEZONE
TZID:Europe/London
BEGIN:DAYLIGHT
TZOFFSETFROM:+0000
TZOFFSETTO:+0100
TZNAME:BST
DTSTART:20240331T010000
END:DAYLIGHT
BEGIN:STANDARD
TZOFFSETFROM:+0100
TZOFFSETTO:+0000
TZNAME:GMT
DTSTART:20241027T010000
END:STANDARD
BEGIN:DAYLIGHT
TZOFFSETFROM:+0000
TZOFFSETTO:+0100
TZNAME:BST
DTSTART:20250330T010000
END:DAYLIGHT
BEGIN:STANDARD
TZOFFSETFROM:+0100
TZOFFSETTO:+0000
TZNAME:GMT
DTSTART:20251026T010000
END:STANDARD
BEGIN:DAYLIGHT
TZOFFSETFROM:+0000
TZOFFSETTO:+0100
TZNAME:BST
DTSTART:20260329T010000
END:DAYLIGHT
BEGIN:STANDARD
TZOFFSETFROM:+0100
TZOFFSETTO:+0000
TZNAME:GMT
DTSTART:20261025T010000
END:STANDARD
END:VTIMEZONE
BEGIN:VEVENT
DTSTART;TZID=Europe/London:20250705T000000
DTEND;TZID=Europe/London:20250705T120000
DTSTAMP:20260419T145014
CREATED:20250502T130450Z
LAST-MODIFIED:20250502T133600Z
UID:10001251-1751673600-1751716800@focus4hope.co.uk
SUMMARY:FocusFest 4
DESCRIPTION:Our 4th outdoor music festival\, this year held at our new venue of Jeremy’s at the Boathouse in Brighouse. A full day of live music featuring 12 live bands across two stages\, indoor and out. Doors 12.00\, Live music 12.40 – 24.00. Food & Drink\, Festival Stalls\, Kids Games and lots more. Tickets £12 advance and are available to purchase here.
URL:https://focus4hope.co.uk/event/focusfest-4/
LOCATION:Jeremy’s at the Boathouse\, Brighouse\, HD6 1PP
ATTACH;FMTTYPE=image/jpeg:https://focus4hope.co.uk/wp-content/uploads/2025/05/FocusFest-4-Web-Event-scaled.jpg
END:VEVENT
END:VCALENDAR